BEGIN:VCALENDAR
VERSION:2.0
PRODID:-//AlFranken.com - ECPv6.15.20//NONSGML v1.0//EN
CALSCALE:GREGORIAN
METHOD:PUBLISH
X-ORIGINAL-URL:https://www.alfranken.com
X-WR-CALDESC:Events for AlFranken.com
REFRESH-INTERVAL;VALUE=DURATION:PT1H
X-Robots-Tag:noindex
X-PUBLISHED-TTL:PT1H
BEGIN:VTIMEZONE
TZID:America/Chicago
BEGIN:DAYLIGHT
TZOFFSETFROM:-0600
TZOFFSETTO:-0500
TZNAME:CDT
DTSTART:20180311T080000
END:DAYLIGHT
BEGIN:STANDARD
TZOFFSETFROM:-0500
TZOFFSETTO:-0600
TZNAME:CST
DTSTART:20181104T070000
END:STANDARD
BEGIN:DAYLIGHT
TZOFFSETFROM:-0600
TZOFFSETTO:-0500
TZNAME:CDT
DTSTART:20190310T080000
END:DAYLIGHT
BEGIN:STANDARD
TZOFFSETFROM:-0500
TZOFFSETTO:-0600
TZNAME:CST
DTSTART:20191103T070000
END:STANDARD
BEGIN:DAYLIGHT
TZOFFSETFROM:-0600
TZOFFSETTO:-0500
TZNAME:CDT
DTSTART:20200308T080000
END:DAYLIGHT
BEGIN:STANDARD
TZOFFSETFROM:-0500
TZOFFSETTO:-0600
TZNAME:CST
DTSTART:20201101T070000
END:STANDARD
BEGIN:DAYLIGHT
TZOFFSETFROM:-0600
TZOFFSETTO:-0500
TZNAME:CDT
DTSTART:20210314T080000
END:DAYLIGHT
BEGIN:STANDARD
TZOFFSETFROM:-0500
TZOFFSETTO:-0600
TZNAME:CST
DTSTART:20211107T070000
END:STANDARD
END:VTIMEZONE
BEGIN:VEVENT
DTSTART;VALUE=DATE:20200305
DTEND;VALUE=DATE:20200306
DTSTAMP:20260419T235514
CREATED:20230918T210406Z
LAST-MODIFIED:20230918T210406Z
UID:1788-1583366400-1583452799@www.alfranken.com
SUMMARY:The Only Former U.S. Senator Currently on Tour Tour
DESCRIPTION:
URL:https://www.alfranken.com/event/the-only-former-u-s-senator-currently-on-tour-tour-42
LOCATION:College Street Music Hall\, New Haven\, Connecticut\, United States
END:VEVENT
BEGIN:VEVENT
DTSTART;VALUE=DATE:20191115
DTEND;VALUE=DATE:20191116
DTSTAMP:20260419T235514
CREATED:20230918T210421Z
LAST-MODIFIED:20230918T210421Z
UID:1789-1573776000-1573862399@www.alfranken.com
SUMMARY:The Only Former U.S. Senator Currently on Tour Tour
DESCRIPTION:
URL:https://www.alfranken.com/event/the-only-former-u-s-senator-currently-on-tour-tour-43
LOCATION:The Wilbur\, Boston\, Massachusetts\, United States
END:VEVENT
BEGIN:VEVENT
DTSTART;VALUE=DATE:20191026
DTEND;VALUE=DATE:20191027
DTSTAMP:20260419T235514
CREATED:20230918T210421Z
LAST-MODIFIED:20230918T210421Z
UID:1790-1572048000-1572134399@www.alfranken.com
SUMMARY:The Only Former U.S. Senator Currently on Tour Tour
DESCRIPTION:
URL:https://www.alfranken.com/event/the-only-former-u-s-senator-currently-on-tour-tour-44
LOCATION:Politicon\, Nashville\, Tennessee\, United States
END:VEVENT
BEGIN:VEVENT
DTSTART;VALUE=DATE:20191004
DTEND;VALUE=DATE:20191005
DTSTAMP:20260419T235514
CREATED:20230918T210421Z
LAST-MODIFIED:20230918T210421Z
UID:1791-1570147200-1570233599@www.alfranken.com
SUMMARY:The Only Former U.S. Senator Currently on Tour Tour
DESCRIPTION:
URL:https://www.alfranken.com/event/the-only-former-u-s-senator-currently-on-tour-tour-45
LOCATION:Paramount Theatre\, Seattle\, Washington\, United States
END:VEVENT
BEGIN:VEVENT
DTSTART;VALUE=DATE:20191002
DTEND;VALUE=DATE:20191003
DTSTAMP:20260419T235514
CREATED:20230918T210421Z
LAST-MODIFIED:20230918T210421Z
UID:1792-1569974400-1570060799@www.alfranken.com
SUMMARY:The Only Former U.S. Senator Currently on Tour Tour
DESCRIPTION:
URL:https://www.alfranken.com/event/the-only-former-u-s-senator-currently-on-tour-tour-46
LOCATION:Revolution Hall\, Portland\, Oregon\, United States
END:VEVENT
END:VCALENDAR