BEGIN:VCALENDAR
VERSION:2.0
PRODID:-//AlFranken.com - ECPv6.15.20//NONSGML v1.0//EN
CALSCALE:GREGORIAN
METHOD:PUBLISH
X-ORIGINAL-URL:https://www.alfranken.com
X-WR-CALDESC:Events for AlFranken.com
REFRESH-INTERVAL;VALUE=DURATION:PT1H
X-Robots-Tag:noindex
X-PUBLISHED-TTL:PT1H
BEGIN:VTIMEZONE
TZID:America/Chicago
BEGIN:DAYLIGHT
TZOFFSETFROM:-0600
TZOFFSETTO:-0500
TZNAME:CDT
DTSTART:20180311T080000
END:DAYLIGHT
BEGIN:STANDARD
TZOFFSETFROM:-0500
TZOFFSETTO:-0600
TZNAME:CST
DTSTART:20181104T070000
END:STANDARD
BEGIN:DAYLIGHT
TZOFFSETFROM:-0600
TZOFFSETTO:-0500
TZNAME:CDT
DTSTART:20190310T080000
END:DAYLIGHT
BEGIN:STANDARD
TZOFFSETFROM:-0500
TZOFFSETTO:-0600
TZNAME:CST
DTSTART:20191103T070000
END:STANDARD
BEGIN:DAYLIGHT
TZOFFSETFROM:-0600
TZOFFSETTO:-0500
TZNAME:CDT
DTSTART:20200308T080000
END:DAYLIGHT
BEGIN:STANDARD
TZOFFSETFROM:-0500
TZOFFSETTO:-0600
TZNAME:CST
DTSTART:20201101T070000
END:STANDARD
BEGIN:DAYLIGHT
TZOFFSETFROM:-0600
TZOFFSETTO:-0500
TZNAME:CDT
DTSTART:20210314T080000
END:DAYLIGHT
BEGIN:STANDARD
TZOFFSETFROM:-0500
TZOFFSETTO:-0600
TZNAME:CST
DTSTART:20211107T070000
END:STANDARD
BEGIN:DAYLIGHT
TZOFFSETFROM:-0600
TZOFFSETTO:-0500
TZNAME:CDT
DTSTART:20220313T080000
END:DAYLIGHT
BEGIN:STANDARD
TZOFFSETFROM:-0500
TZOFFSETTO:-0600
TZNAME:CST
DTSTART:20221106T070000
END:STANDARD
BEGIN:DAYLIGHT
TZOFFSETFROM:-0600
TZOFFSETTO:-0500
TZNAME:CDT
DTSTART:20230312T080000
END:DAYLIGHT
BEGIN:STANDARD
TZOFFSETFROM:-0500
TZOFFSETTO:-0600
TZNAME:CST
DTSTART:20231105T070000
END:STANDARD
END:VTIMEZONE
BEGIN:VEVENT
DTSTART;VALUE=DATE:20220312
DTEND;VALUE=DATE:20220313
DTSTAMP:20260419T210050
CREATED:20230918T210305Z
LAST-MODIFIED:20230918T210305Z
UID:1764-1647043200-1647129599@www.alfranken.com
SUMMARY:The Only Former U.S. Senator Currently on Tour Tour
DESCRIPTION:
URL:https://www.alfranken.com/event/the-only-former-u-s-senator-currently-on-tour-tour-18
LOCATION:Keswick Theatre\, Glenside\, Pennsylvania\, United States
END:VEVENT
BEGIN:VEVENT
DTSTART;VALUE=DATE:20220311
DTEND;VALUE=DATE:20220312
DTSTAMP:20260419T210050
CREATED:20230918T210306Z
LAST-MODIFIED:20230918T210306Z
UID:1765-1646956800-1647043199@www.alfranken.com
SUMMARY:The Only Former U.S. Senator Currently on Tour Tour
DESCRIPTION:
URL:https://www.alfranken.com/event/the-only-former-u-s-senator-currently-on-tour-tour-19
LOCATION:The Paramount\, Huntington\, New York\, United States
END:VEVENT
BEGIN:VEVENT
DTSTART;VALUE=DATE:20220306
DTEND;VALUE=DATE:20220307
DTSTAMP:20260419T210050
CREATED:20230918T210306Z
LAST-MODIFIED:20230918T210306Z
UID:1766-1646524800-1646611199@www.alfranken.com
SUMMARY:The Only Former U.S. Senator Currently on Tour Tour
DESCRIPTION:
URL:https://www.alfranken.com/event/the-only-former-u-s-senator-currently-on-tour-tour-20
LOCATION:State Theatre\, Ithaca\, New York\, United States
END:VEVENT
BEGIN:VEVENT
DTSTART;VALUE=DATE:20220220
DTEND;VALUE=DATE:20220221
DTSTAMP:20260419T210050
CREATED:20230918T210306Z
LAST-MODIFIED:20230918T210306Z
UID:1767-1645315200-1645401599@www.alfranken.com
SUMMARY:The Only Former U.S. Senator Currently on Tour Tour
DESCRIPTION:
URL:https://www.alfranken.com/event/the-only-former-u-s-senator-currently-on-tour-tour-21
LOCATION:Tarrytown Music Hall\, Tarrytown\, New York\, United States
END:VEVENT
BEGIN:VEVENT
DTSTART;VALUE=DATE:20220218
DTEND;VALUE=DATE:20220219
DTSTAMP:20260419T210050
CREATED:20230918T210306Z
LAST-MODIFIED:20230918T210306Z
UID:1768-1645142400-1645228799@www.alfranken.com
SUMMARY:The Only Former U.S. Senator Currently on Tour Tour
DESCRIPTION:
URL:https://www.alfranken.com/event/the-only-former-u-s-senator-currently-on-tour-tour-22
LOCATION:ArtsQuest Center\, Bethlehem\, Pennsylvania\, United States
END:VEVENT
BEGIN:VEVENT
DTSTART;VALUE=DATE:20211211
DTEND;VALUE=DATE:20211212
DTSTAMP:20260419T210050
CREATED:20230918T210320Z
LAST-MODIFIED:20230918T210320Z
UID:1769-1639180800-1639267199@www.alfranken.com
SUMMARY:The Only Former U.S. Senator Currently on Tour Tour
DESCRIPTION:
URL:https://www.alfranken.com/event/the-only-former-u-s-senator-currently-on-tour-tour-23
LOCATION:Town Hall\, New York\, New York\, United States
END:VEVENT
BEGIN:VEVENT
DTSTART;VALUE=DATE:20211210
DTEND;VALUE=DATE:20211211
DTSTAMP:20260419T210050
CREATED:20230918T210321Z
LAST-MODIFIED:20230918T210321Z
UID:1770-1639094400-1639180799@www.alfranken.com
SUMMARY:The Only Former U.S. Senator Currently on Tour Tour
DESCRIPTION:
URL:https://www.alfranken.com/event/the-only-former-u-s-senator-currently-on-tour-tour-24
LOCATION:State Theatre\, Ithaca\, New York\, United States
END:VEVENT
BEGIN:VEVENT
DTSTART;VALUE=DATE:20211205
DTEND;VALUE=DATE:20211206
DTSTAMP:20260419T210050
CREATED:20230918T210321Z
LAST-MODIFIED:20230918T210321Z
UID:1771-1638662400-1638748799@www.alfranken.com
SUMMARY:The Only Former U.S. Senator Currently on Tour Tour
DESCRIPTION:
URL:https://www.alfranken.com/event/the-only-former-u-s-senator-currently-on-tour-tour-25
LOCATION:Paramount Theatre\, Seattle\, Washington\, United States
END:VEVENT
BEGIN:VEVENT
DTSTART;VALUE=DATE:20211204
DTEND;VALUE=DATE:20211205
DTSTAMP:20260419T210050
CREATED:20230918T210321Z
LAST-MODIFIED:20230918T210321Z
UID:1772-1638576000-1638662399@www.alfranken.com
SUMMARY:The Only Former U.S. Senator Currently on Tour Tour
DESCRIPTION:
URL:https://www.alfranken.com/event/the-only-former-u-s-senator-currently-on-tour-tour-26
LOCATION:Boulder Theater\, Boulder\, Colorado\, United States
END:VEVENT
BEGIN:VEVENT
DTSTART;VALUE=DATE:20211121
DTEND;VALUE=DATE:20211122
DTSTAMP:20260419T210050
CREATED:20230918T210321Z
LAST-MODIFIED:20230918T210321Z
UID:1773-1637452800-1637539199@www.alfranken.com
SUMMARY:The Only Former U.S. Senator Currently on Tour Tour
DESCRIPTION:
URL:https://www.alfranken.com/event/the-only-former-u-s-senator-currently-on-tour-tour-27
LOCATION:The Sheldon\, St. Louis\, Missouri\, United States
END:VEVENT
BEGIN:VEVENT
DTSTART;VALUE=DATE:20211120
DTEND;VALUE=DATE:20211121
DTSTAMP:20260419T210050
CREATED:20230918T210335Z
LAST-MODIFIED:20230918T210335Z
UID:1774-1637366400-1637452799@www.alfranken.com
SUMMARY:The Only Former U.S. Senator Currently on Tour Tour
DESCRIPTION:
URL:https://www.alfranken.com/event/the-only-former-u-s-senator-currently-on-tour-tour-28
LOCATION:Vic Theatre\, Chicago\, Illinois\, United States
END:VEVENT
BEGIN:VEVENT
DTSTART;VALUE=DATE:20211119
DTEND;VALUE=DATE:20211120
DTSTAMP:20260419T210050
CREATED:20230918T210335Z
LAST-MODIFIED:20230918T210335Z
UID:1775-1637280000-1637366399@www.alfranken.com
SUMMARY:The Only Former U.S. Senator Currently on Tour Tour
DESCRIPTION:
URL:https://www.alfranken.com/event/the-only-former-u-s-senator-currently-on-tour-tour-29
LOCATION:Uptown Theater\, Kansas City\, Missouri\, United States
END:VEVENT
BEGIN:VEVENT
DTSTART;VALUE=DATE:20211106
DTEND;VALUE=DATE:20211107
DTSTAMP:20260419T210050
CREATED:20230918T210336Z
LAST-MODIFIED:20230918T210336Z
UID:1776-1636156800-1636243199@www.alfranken.com
SUMMARY:The Only Former U.S. Senator Currently on Tour Tour
DESCRIPTION:
URL:https://www.alfranken.com/event/the-only-former-u-s-senator-currently-on-tour-tour-30
LOCATION:The Egg\, Albany\, New York\, United States
END:VEVENT
BEGIN:VEVENT
DTSTART;VALUE=DATE:20211105
DTEND;VALUE=DATE:20211106
DTSTAMP:20260419T210050
CREATED:20230918T210336Z
LAST-MODIFIED:20230918T210336Z
UID:1777-1636070400-1636156799@www.alfranken.com
SUMMARY:The Only Former U.S. Senator Currently on Tour Tour
DESCRIPTION:
URL:https://www.alfranken.com/event/the-only-former-u-s-senator-currently-on-tour-tour-31
LOCATION:Warner Theatre\, Washington DC\, Washington DC\, United States
END:VEVENT
BEGIN:VEVENT
DTSTART;VALUE=DATE:20211023
DTEND;VALUE=DATE:20211024
DTSTAMP:20260419T210050
CREATED:20230918T210336Z
LAST-MODIFIED:20230918T210336Z
UID:1778-1634947200-1635033599@www.alfranken.com
SUMMARY:The Only Former U.S. Senator Currently on Tour Tour
DESCRIPTION:
URL:https://www.alfranken.com/event/the-only-former-u-s-senator-currently-on-tour-tour-32
LOCATION:Carnegie of Homestead Music Hall\, Pittsburgh\, Pennsylvania\, United States
END:VEVENT
BEGIN:VEVENT
DTSTART;VALUE=DATE:20211009
DTEND;VALUE=DATE:20211010
DTSTAMP:20260419T210050
CREATED:20230918T210350Z
LAST-MODIFIED:20230918T210350Z
UID:1779-1633737600-1633823999@www.alfranken.com
SUMMARY:The Only Former U.S. Senator Currently on Tour Tour
DESCRIPTION:
URL:https://www.alfranken.com/event/the-only-former-u-s-senator-currently-on-tour-tour-33
LOCATION:Symphony Hall\, Atlanta\, Georgia\, United States
END:VEVENT
BEGIN:VEVENT
DTSTART;VALUE=DATE:20211008
DTEND;VALUE=DATE:20211009
DTSTAMP:20260419T210050
CREATED:20230918T210351Z
LAST-MODIFIED:20230918T210351Z
UID:1780-1633651200-1633737599@www.alfranken.com
SUMMARY:The Only Former U.S. Senator Currently on Tour Tour
DESCRIPTION:
URL:https://www.alfranken.com/event/the-only-former-u-s-senator-currently-on-tour-tour-34
LOCATION:Majestic Theatre\, Dallas\, Texas\, United States
END:VEVENT
BEGIN:VEVENT
DTSTART;VALUE=DATE:20211002
DTEND;VALUE=DATE:20211003
DTSTAMP:20260419T210050
CREATED:20230918T210351Z
LAST-MODIFIED:20230918T210351Z
UID:1781-1633132800-1633219199@www.alfranken.com
SUMMARY:The Only Former U.S. Senator Currently on Tour Tour
DESCRIPTION:
URL:https://www.alfranken.com/event/the-only-former-u-s-senator-currently-on-tour-tour-35
LOCATION:Pantages Theatre\, Minneapolis\, Minnesota\, United States
END:VEVENT
BEGIN:VEVENT
DTSTART;VALUE=DATE:20211002
DTEND;VALUE=DATE:20211003
DTSTAMP:20260419T210050
CREATED:20230918T210351Z
LAST-MODIFIED:20230918T210351Z
UID:1782-1633132800-1633219199@www.alfranken.com
SUMMARY:The Only Former U.S. Senator Currently on Tour Tour
DESCRIPTION:
URL:https://www.alfranken.com/event/the-only-former-u-s-senator-currently-on-tour-tour-36
LOCATION:Pantages Theatre\, Minneapolis\, Minnesota\, United States
END:VEVENT
BEGIN:VEVENT
DTSTART;VALUE=DATE:20211001
DTEND;VALUE=DATE:20211002
DTSTAMP:20260419T210050
CREATED:20230918T210351Z
LAST-MODIFIED:20230918T210351Z
UID:1783-1633046400-1633132799@www.alfranken.com
SUMMARY:The Only Former U.S. Senator Currently on Tour Tour
DESCRIPTION:
URL:https://www.alfranken.com/event/the-only-former-u-s-senator-currently-on-tour-tour-37
LOCATION:Pabst Theater\, Milwaukee\, Wisconsin\, United States
END:VEVENT
BEGIN:VEVENT
DTSTART;VALUE=DATE:20210918
DTEND;VALUE=DATE:20210919
DTSTAMP:20260419T210050
CREATED:20230918T210405Z
LAST-MODIFIED:20230918T210405Z
UID:1784-1631923200-1632009599@www.alfranken.com
SUMMARY:The Only Former U.S. Senator Currently on Tour Tour
DESCRIPTION:
URL:https://www.alfranken.com/event/the-only-former-u-s-senator-currently-on-tour-tour-38
LOCATION:Academy of Music\, Northhampton\, Massachusetts\, United States
END:VEVENT
BEGIN:VEVENT
DTSTART;VALUE=DATE:20201017
DTEND;VALUE=DATE:20201018
DTSTAMP:20260419T210050
CREATED:20230918T210405Z
LAST-MODIFIED:20230918T210405Z
UID:1785-1602892800-1602979199@www.alfranken.com
SUMMARY:The Only Former U.S. Senator Currently on Tour Tour
DESCRIPTION:
URL:https://www.alfranken.com/event/the-only-former-u-s-senator-currently-on-tour-tour-39
LOCATION:VIRTUAL – Princeton Senior Resource Center\, Princeton\, New Jersey\, United States
END:VEVENT
BEGIN:VEVENT
DTSTART;VALUE=DATE:20200308
DTEND;VALUE=DATE:20200309
DTSTAMP:20260419T210050
CREATED:20230918T210406Z
LAST-MODIFIED:20230918T210406Z
UID:1786-1583625600-1583711999@www.alfranken.com
SUMMARY:The Only Former U.S. Senator Currently on Tour Tour
DESCRIPTION:
URL:https://www.alfranken.com/event/the-only-former-u-s-senator-currently-on-tour-tour-40
LOCATION:South Orange Performing Arts Center\, South Orange\, New Jersey\, United States
END:VEVENT
BEGIN:VEVENT
DTSTART;VALUE=DATE:20200307
DTEND;VALUE=DATE:20200308
DTSTAMP:20260419T210050
CREATED:20230918T210406Z
LAST-MODIFIED:20230918T210406Z
UID:1787-1583539200-1583625599@www.alfranken.com
SUMMARY:The Only Former U.S. Senator Currently on Tour Tour
DESCRIPTION:
URL:https://www.alfranken.com/event/the-only-former-u-s-senator-currently-on-tour-tour-41
LOCATION:South Orange Performing Arts Center\, South Orange\, New Jersey\, United States
END:VEVENT
BEGIN:VEVENT
DTSTART;VALUE=DATE:20200305
DTEND;VALUE=DATE:20200306
DTSTAMP:20260419T210050
CREATED:20230918T210406Z
LAST-MODIFIED:20230918T210406Z
UID:1788-1583366400-1583452799@www.alfranken.com
SUMMARY:The Only Former U.S. Senator Currently on Tour Tour
DESCRIPTION:
URL:https://www.alfranken.com/event/the-only-former-u-s-senator-currently-on-tour-tour-42
LOCATION:College Street Music Hall\, New Haven\, Connecticut\, United States
END:VEVENT
BEGIN:VEVENT
DTSTART;VALUE=DATE:20191115
DTEND;VALUE=DATE:20191116
DTSTAMP:20260419T210050
CREATED:20230918T210421Z
LAST-MODIFIED:20230918T210421Z
UID:1789-1573776000-1573862399@www.alfranken.com
SUMMARY:The Only Former U.S. Senator Currently on Tour Tour
DESCRIPTION:
URL:https://www.alfranken.com/event/the-only-former-u-s-senator-currently-on-tour-tour-43
LOCATION:The Wilbur\, Boston\, Massachusetts\, United States
END:VEVENT
BEGIN:VEVENT
DTSTART;VALUE=DATE:20191026
DTEND;VALUE=DATE:20191027
DTSTAMP:20260419T210050
CREATED:20230918T210421Z
LAST-MODIFIED:20230918T210421Z
UID:1790-1572048000-1572134399@www.alfranken.com
SUMMARY:The Only Former U.S. Senator Currently on Tour Tour
DESCRIPTION:
URL:https://www.alfranken.com/event/the-only-former-u-s-senator-currently-on-tour-tour-44
LOCATION:Politicon\, Nashville\, Tennessee\, United States
END:VEVENT
BEGIN:VEVENT
DTSTART;VALUE=DATE:20191004
DTEND;VALUE=DATE:20191005
DTSTAMP:20260419T210050
CREATED:20230918T210421Z
LAST-MODIFIED:20230918T210421Z
UID:1791-1570147200-1570233599@www.alfranken.com
SUMMARY:The Only Former U.S. Senator Currently on Tour Tour
DESCRIPTION:
URL:https://www.alfranken.com/event/the-only-former-u-s-senator-currently-on-tour-tour-45
LOCATION:Paramount Theatre\, Seattle\, Washington\, United States
END:VEVENT
BEGIN:VEVENT
DTSTART;VALUE=DATE:20191002
DTEND;VALUE=DATE:20191003
DTSTAMP:20260419T210050
CREATED:20230918T210421Z
LAST-MODIFIED:20230918T210421Z
UID:1792-1569974400-1570060799@www.alfranken.com
SUMMARY:The Only Former U.S. Senator Currently on Tour Tour
DESCRIPTION:
URL:https://www.alfranken.com/event/the-only-former-u-s-senator-currently-on-tour-tour-46
LOCATION:Revolution Hall\, Portland\, Oregon\, United States
END:VEVENT
END:VCALENDAR